BEGIN:VCALENDAR
VERSION:2.0
PRODID:-//Centre social et culturel l&#039;Archipel - ECPv5.16.4//NONSGML v1.0//EN
CALSCALE:GREGORIAN
METHOD:PUBLISH
X-WR-CALNAME:Centre social et culturel l&#039;Archipel
X-ORIGINAL-URL:http://www.larchipeldieppe.fr
X-WR-CALDESC:évènements pour Centre social et culturel l&#039;Archipel
BEGIN:VTIMEZONE
TZID:Europe/Paris
BEGIN:DAYLIGHT
TZOFFSETFROM:+0100
TZOFFSETTO:+0200
TZNAME:CEST
DTSTART:20240331T010000
END:DAYLIGHT
BEGIN:STANDARD
TZOFFSETFROM:+0200
TZOFFSETTO:+0100
TZNAME:CET
DTSTART:20241027T010000
END:STANDARD
END:VTIMEZONE
BEGIN:VEVENT
DTSTART;TZID=Europe/Paris:20240515T180000
DTEND;TZID=Europe/Paris:20240515T200000
DTSTAMP:20260422T171220
CREATED:20230926T144417Z
LAST-MODIFIED:20230926T151553Z
UID:30402-1715796000-1715803200@www.larchipeldieppe.fr
SUMMARY:PEINTURE ACRYLIQUE (au Pollet)
DESCRIPTION:
URL:http://www.larchipeldieppe.fr/agenda/peinture-acrylique/2024-05-15/
LOCATION:Maison de Quartier du Pollet\, 38 rue Cité de Limes\, Dieppe\, 76200\, France
CATEGORIES:Activités culturelles
ATTACH;FMTTYPE=image/webp:http://www.larchipeldieppe.fr/wp-content/uploads/2023/09/thumbnail_large-1.webp
GEO:49.9280319;1.0895751
X-APPLE-STRUCTURED-LOCATION;VALUE=URI;X-ADDRESS=Maison de Quartier du Pollet 38 rue Cité de Limes Dieppe 76200 France;X-APPLE-RADIUS=500;X-TITLE=38 rue Cité de Limes:geo:1.0895751,49.9280319
END:VEVENT
END:VCALENDAR