BEGIN:VCALENDAR
VERSION:2.0
PRODID:-//Centre social et culturel l&#039;Archipel - ECPv5.16.4//NONSGML v1.0//EN
CALSCALE:GREGORIAN
METHOD:PUBLISH
X-WR-CALNAME:Centre social et culturel l&#039;Archipel
X-ORIGINAL-URL:http://www.larchipeldieppe.fr
X-WR-CALDESC:évènements pour Centre social et culturel l&#039;Archipel
BEGIN:VTIMEZONE
TZID:Europe/Paris
BEGIN:DAYLIGHT
TZOFFSETFROM:+0100
TZOFFSETTO:+0200
TZNAME:CEST
DTSTART:20200329T010000
END:DAYLIGHT
BEGIN:STANDARD
TZOFFSETFROM:+0200
TZOFFSETTO:+0100
TZNAME:CET
DTSTART:20201025T010000
END:STANDARD
END:VTIMEZONE
BEGIN:VEVENT
DTSTART;TZID=Europe/Paris:20200730T100000
DTEND;TZID=Europe/Paris:20200730T120000
DTSTAMP:20260424T143441
CREATED:20200626T132151Z
LAST-MODIFIED:20200626T132151Z
UID:12492-1596103200-1596110400@www.larchipeldieppe.fr
SUMMARY:Bracelet brésilien
DESCRIPTION:Rendez-vous au Centre Social Culturel L’Archipel à 10h00 \nInscription obligatoire\, places limitées
URL:http://www.larchipeldieppe.fr/agenda/bracelet-bresilien/
LOCATION:Espace social et culturel l’Archipel\, 8 rue du 19 août 1942\, Dieppe\, 76200\, France
CATEGORIES:Évènement à la une,Secteur 10/13 ans
ATTACH;FMTTYPE=image/jpeg:http://www.larchipeldieppe.fr/wp-content/uploads/2020/06/yarn-166877_1280.jpg
GEO:49.925143;1.0745719
X-APPLE-STRUCTURED-LOCATION;VALUE=URI;X-ADDRESS=Espace social et culturel l’Archipel 8 rue du 19 août 1942 Dieppe 76200 France;X-APPLE-RADIUS=500;X-TITLE=8 rue du 19 août 1942:geo:1.0745719,49.925143
END:VEVENT
END:VCALENDAR